Workbook

Sheet žádost
P1: Koeficient
I2: 1 | P2: K1 | Q2: =ROUND(IF(ROUND(AVERAGE(C37-I37,C38-I38,C39-I39),0)<100000,0,IF(ROUND(AVERAGE(C37-I37,C38-I38,C39-I39),0)>=1000000,1.1,ROUND(AVERAGE(C37-I37,C38-I38,C39-I39),0)/10000000+1)),3) -> 0
P3: K2 | Q3: =IF(G100="Olympijský",1.5,IF(G100="Neolympijský",1.2,IF(G100="Rekreační",1.1,0))) -> 0
P4: K3 | Q4: =IF(G102="Kolektivní",1.1,IF(G102="Individuální",1.3,0)) -> 0
A5: DOTACE z rozpočtu města Jeseník | P5: K4 | Q5: =IF(COUNTIF(E119:E121,"<>")=3,1.1)+IF(COUNTIF(E123:E125,"<>")=3,1.2)+IF(COUNTIF(E127:E129,"<>")=3,1.3)+IF(COUNTIF(E131:E133,"<>")=3,1.4)+IF(COUNTIF(E135:E137,"<>")=3,1.5,0) -> 0
P6: K5 | Q6: =1+COUNTIF(D147:D153,"X")*0.03+COUNTIF(I147:I151,"X")*0.03+COUNTIF(I153,"X")*0.09 -> 1
P7: K6 | Q7: =COUNTIF(I170:I179,">=100")*0.2+COUNTIFS(I170:I179,">=30",I170:I179,"<100")*0.07 -> 0
B8: Ž Á D O S T 1B | P8: K7 | Q8: =(IF(COUNTIF(J221:J250,1)+COUNTIF('příloha č.1.'!J12:J214,1)>=5,1,0)+IF(COUNTIF(J221:J250,2)+COUNTIF('příloha č.1.'!J12:J214,2)>=5,1,0)+IF(COUNTIF(J221:J250,3)+COUNTIF('příloha č.1.'!J12:J214,3)>=5,1,0)+IF(COUNTIF(J221:J250,4)+COUNTIF('příloha č.1.'!J12:J214,4)>=5,1,0)+IF(COUNTIF(J221:J250,5)+COUNTIF('příloha č.1.'!J12:J214,5)>=5,1,0)+IF(COUNTIF(J221:J250,6)+COUNTIF('příloha č.1.'!J12:J214,6)>=5,1,0)-1)/10+1 -> 0.9
B9: o poskytnutí finanční dotace na činnost | P9: KC | Q9: =ROUND((Q2*Q3*Q4*Q5*Q6*Q8)+Q7,3) -> 0
B10: Dotační program SPORT 2026 - Celoroční činnost sportovnních organizací | P10: Bodování
P11: A | Q11: =COUNTIF($I$221:$I$235,"A")+COUNTIF($I$236:$I$250,"A")+COUNTIF('příloha č.1.'!$I$12:$I$50,"A")+COUNTIF('příloha č.1.'!$I$64:$I$105,"A")+COUNTIF('příloha č.1.'!$I$119:$I$160,"A")+COUNTIF('příloha č.1.'!$I$174:$I$215,"A") -> 0
A12: -------------------------------------------------------------------------------------------------------------------------------------------- | P12: B | Q12: =(COUNTIF($I$221:$I$235,"B")+COUNTIF($I$236:$I$250,"B")+COUNTIF('příloha č.1.'!$I$12:$I$50,"B")+COUNTIF('příloha č.1.'!$I$64:$I$105,"B")+COUNTIF('příloha č.1.'!$I$119:$I$160,"B")+COUNTIF('příloha č.1.'!$I$174:$I$215,"B"))*3 -> 0
P13: C | Q13: =(COUNTIF($I$221:$I$235,"C")+COUNTIF($I$236:$I$250,"C")+COUNTIF('příloha č.1.'!$I$12:$I$50,"C")+COUNTIF('příloha č.1.'!$I$64:$I$105,"C")+COUNTIF('příloha č.1.'!$I$119:$I$160,"C")+COUNTIF('příloha č.1.'!$I$174:$I$215,"C"))*2 -> 0
B14: Žadatel: | P14: D | Q14: =(COUNTIF($I$221:$I$235,"D")+COUNTIF($I$236:$I$250,"D")+COUNTIF('příloha č.1.'!$I$12:$I$50,"D")+COUNTIF('příloha č.1.'!$I$64:$I$105,"D")+COUNTIF('příloha č.1.'!$I$119:$I$160,"D")+COUNTIF('příloha č.1.'!$I$174:$I$215,"D"))*6 -> 0
B15: (název právnické osoby dle registrační listiny) | P15: E | Q15: =(COUNTIF($I$221:$I$235,"E")+COUNTIF($I$236:$I$250,"E")+COUNTIF('příloha č.1.'!$I$12:$I$50,"E")+COUNTIF('příloha č.1.'!$I$64:$I$105,"E")+COUNTIF('příloha č.1.'!$I$119:$I$160,"E")+COUNTIF('příloha č.1.'!$I$174:$I$215,"E"))*3 -> 0
B16: Adresa sídla: | P16: F | Q16: =COUNTIF($I$221:$I$235,"F")+COUNTIF($I$236:$I$250,"F")+COUNTIF('příloha č.1.'!$I$12:$I$50,"F")+COUNTIF('příloha č.1.'!$I$64:$I$105,"F")+COUNTIF('příloha č.1.'!$I$119:$I$160,"F")+COUNTIF('příloha č.1.'!$I$174:$I$215,"F") -> 0
B17: Statutární zástupce: | P17: BC | Q17: =ROUND((SUM(Q11:Q16)*Q9),0) -> 0
B18: (dle společenské smlouvy, stanov apod.)
B19: Právní forma žadatele:
B20: (občanské sdružení, nadace, o.p.s., sportovní klub apod.)
B21: IČO žadatele:
B22: DIČ žadatele:
B23: Bankovní spojení:
B24: Telefon:
B25: Emailová adresa:
A27: --------------------------------------------------------------------------------------------------------------------------------------------
B29: TÍMTO ŽÁDÁME O POSKYTNUTÍ DOTACE VE VÝŠI
B31: požadovaná částka odpovídá | F31: % | G31: předpokládaných nákladů roku 2026
A33: --------------------------------------------------------------------------------------------------------------------------------------------
B35: Celkové náklady (výdaje) organizace:
B37: 2022 | E37: z toho mzdové náklady včetně odvodů
B38: 2023 | E38: z toho mzdové náklady včetně odvodů
B39: 2024 | E39: z toho mzdové náklady včetně odvodů
A42: --------------------------------------------------------------------------------------------------------------------------------------------
I52: 2
C55: DOTACE z rozpočtu města Jeseník
B58: Hlavní činnost organizace:
B59: (stručně popiště hlavní činnost)
A69: --------------------------------------------------------------------------------------------------------------------------------------------
B71: Plán činnosti a organizace na rok 2026
B72: (stručně popiště plán činnosti)
A82: --------------------------------------------------------------------------------------------------------------------------------------------
B84: Účel použití příspěvku města:
B85: (stručně popiště a podrobně uveďte v návrhu rozpočtu)
A95: --------------------------------------------------------------------------------------------------------------------------------------------
B97: Druh sportu:
B98: (jmenujte hlavní sport, ve kterém se organizace účastní soutěží a vyberte upřesnění druhu sportu)
G100: Vyber...
F101: Upřesni
G102: Vyber…
A104: --------------------------------------------------------------------------------------------------------------------------------------------
I110: 3
C113: DOTACE z rozpočtu města Jeseník
B116: Nejvyšší absolvované soutěže za posledních 12 měsíců:
B117: (k dané úrovni napište 3 názvy soutěží, kterých se účastnila organizace v posledních 12 měsících, vypište jen nejvyšší dosaženou úroveň, např. pokud se členové organizace účastnili alespoň 3 mezinárodních soutěží, už nemusíte vypisovat republikové, krajské a okresní)
D119: 1.
B120: Okresní | D120: 2.
D121: 3.
D123: 1.
B124: Krajské | D124: 2.
D125: 3.
D127: 1.
B128: Celostátní | D128: 2.
D129: 3.
D131: 1.
B132: Mezinárodní | D132: 2.
D133: 3.
D135: 1.
B136: Reprezentace ČR | D136: 2.
D137: 3.
B139: *Nutno doložit výsledkové listiny k vyjmenováným soutěžím (závodům).
A141: --------------------------------------------------------------------------------------------------------------------------------------------
B143: Propagace, publicita města:
B144: (vyberte, kde všude organizace propaguje město Jeseník - logo města, minimálně posledních 12 měsíců)
B147: soutěžní oblečení | F147: TV (alespoň jednou)
B149: webové stránky | F149: civilní klubové oblečení
B151: sociální sítě | F151: nadregionální tisk nebo rozhlas
B153: klubové vozidlo | F153: název organizace
A155: --------------------------------------------------------------------------------------------------------------------------------------------
I160: 4
C163: DOTACE z rozpočtu města Jeseník
B166: Pořádané sportovní soutěže/turnaje
B167: (Vyjmenujte akce, které bude vaše organizace pořádat v roce 2026. NEUVÁDĚJTE akce, na které budete žádat v programu 1A - jednorázové sportovní akce. (Lze uvést maximálně 10 akcí.)
E169: Název akce: | I169: Předp. počet účastníků:
B170: 1.
B171: 2.
B172: 3.
B173: 4.
B174: 5.
B175: 6.
B176: 7.
B177: 8.
B178: 9.
B179: 10.
A181: --------------------------------------------------------------------------------------------------------------------------------------------
B183: Aktivní trenéři s trenérskou licencí
B185: Pořadí | C185: Jméno | D185: Přijmení | F185: Licence
B186: 01.
B187: 02.
B188: 03.
...

Sheet příloha č.1.
I2: 1
C5: DOTACE z rozpočtu města Jeseník
B9: Příloha č.1. - doplnění členské základny sportovců
B11: Pořadí | C11: Jméno | D11: Příjmení | F11: Město | G11: Rok nar. | H11: Soutěžící* | I11: KAT | K11: název tréninkové skutpiny
B12: 31. | I12: =IF(G12="","",IF(YEAR(TODAY())-G12<5,"",IF(OR(YEAR(TODAY())-G12=5,YEAR(TODAY())-G12=6),IF(F12="Jeseník","B","A"),IF(AND(YEAR(TODAY())-G12>=7,YEAR(TODAY())-G12<=26),IF(F12="Jeseník",IF(H12="ano","D","B"),IF(H12="ano","C","A")),IF(YEAR(TODAY())-G12>26,IF(H12="ano","E",IF(F12="Jeseník","F",""))))))) | J12: =IF(G12="","",IF(YEAR(TODAY())-G12<=7,1,IF(AND(YEAR(TODAY())-G12>=8,YEAR(TODAY())-G12<=10),2,IF(AND(YEAR(TODAY())-G12>=11,YEAR(TODAY())-G12<=15),3,IF(AND(YEAR(TODAY())-G12>=16,YEAR(TODAY())-G12<=20),4,IF(AND(YEAR(TODAY())-G12>=21,YEAR(TODAY())-G12<=26),5,IF(YEAR(TODAY())-G12>=27,6,"")))))))
B13: 32. | I13: =IF(G13="","",IF(YEAR(TODAY())-G13<5,"",IF(OR(YEAR(TODAY())-G13=5,YEAR(TODAY())-G13=6),IF(F13="Jeseník","B","A"),IF(AND(YEAR(TODAY())-G13>=7,YEAR(TODAY())-G13<=26),IF(F13="Jeseník",IF(H13="ano","D","B"),IF(H13="ano","C","A")),IF(YEAR(TODAY())-G13>26,IF(H13="ano","E",IF(F13="Jeseník","F",""))))))) | J13: =IF(G13="","",IF(YEAR(TODAY())-G13<=7,1,IF(AND(YEAR(TODAY())-G13>=8,YEAR(TODAY())-G13<=10),2,IF(AND(YEAR(TODAY())-G13>=11,YEAR(TODAY())-G13<=15),3,IF(AND(YEAR(TODAY())-G13>=16,YEAR(TODAY())-G13<=20),4,IF(AND(YEAR(TODAY())-G13>=21,YEAR(TODAY())-G13<=26),5,IF(YEAR(TODAY())-G13>=27,6,"")))))))
B14: 33. | I14: =IF(G14="","",IF(YEAR(TODAY())-G14<5,"",IF(OR(YEAR(TODAY())-G14=5,YEAR(TODAY())-G14=6),IF(F14="Jeseník","B","A"),IF(AND(YEAR(TODAY())-G14>=7,YEAR(TODAY())-G14<=26),IF(F14="Jeseník",IF(H14="ano","D","B"),IF(H14="ano","C","A")),IF(YEAR(TODAY())-G14>26,IF(H14="ano","E",IF(F14="Jeseník","F",""))))))) | J14: =IF(G14="","",IF(YEAR(TODAY())-G14<=7,1,IF(AND(YEAR(TODAY())-G14>=8,YEAR(TODAY())-G14<=10),2,IF(AND(YEAR(TODAY())-G14>=11,YEAR(TODAY())-G14<=15),3,IF(AND(YEAR(TODAY())-G14>=16,YEAR(TODAY())-G14<=20),4,IF(AND(YEAR(TODAY())-G14>=21,YEAR(TODAY())-G14<=26),5,IF(YEAR(TODAY())-G14>=27,6,"")))))))
B15: 34. | I15: =IF(G15="","",IF(YEAR(TODAY())-G15<5,"",IF(OR(YEAR(TODAY())-G15=5,YEAR(TODAY())-G15=6),IF(F15="Jeseník","B","A"),IF(AND(YEAR(TODAY())-G15>=7,YEAR(TODAY())-G15<=26),IF(F15="Jeseník",IF(H15="ano","D","B"),IF(H15="ano","C","A")),IF(YEAR(TODAY())-G15>26,IF(H15="ano","E",IF(F15="Jeseník","F",""))))))) | J15: =IF(G15="","",IF(YEAR(TODAY())-G15<=7,1,IF(AND(YEAR(TODAY())-G15>=8,YEAR(TODAY())-G15<=10),2,IF(AND(YEAR(TODAY())-G15>=11,YEAR(TODAY())-G15<=15),3,IF(AND(YEAR(TODAY())-G15>=16,YEAR(TODAY())-G15<=20),4,IF(AND(YEAR(TODAY())-G15>=21,YEAR(TODAY())-G15<=26),5,IF(YEAR(TODAY())-G15>=27,6,"")))))))
B16: 35. | I16: =IF(G16="","",IF(YEAR(TODAY())-G16<5,"",IF(OR(YEAR(TODAY())-G16=5,YEAR(TODAY())-G16=6),IF(F16="Jeseník","B","A"),IF(AND(YEAR(TODAY())-G16>=7,YEAR(TODAY())-G16<=26),IF(F16="Jeseník",IF(H16="ano","D","B"),IF(H16="ano","C","A")),IF(YEAR(TODAY())-G16>26,IF(H16="ano","E",IF(F16="Jeseník","F",""))))))) | J16: =IF(G16="","",IF(YEAR(TODAY())-G16<=7,1,IF(AND(YEAR(TODAY())-G16>=8,YEAR(TODAY())-G16<=10),2,IF(AND(YEAR(TODAY())-G16>=11,YEAR(TODAY())-G16<=15),3,IF(AND(YEAR(TODAY())-G16>=16,YEAR(TODAY())-G16<=20),4,IF(AND(YEAR(TODAY())-G16>=21,YEAR(TODAY())-G16<=26),5,IF(YEAR(TODAY())-G16>=27,6,"")))))))
B17: 36. | I17: =IF(G17="","",IF(YEAR(TODAY())-G17<5,"",IF(OR(YEAR(TODAY())-G17=5,YEAR(TODAY())-G17=6),IF(F17="Jeseník","B","A"),IF(AND(YEAR(TODAY())-G17>=7,YEAR(TODAY())-G17<=26),IF(F17="Jeseník",IF(H17="ano","D","B"),IF(H17="ano","C","A")),IF(YEAR(TODAY())-G17>26,IF(H17="ano","E",IF(F17="Jeseník","F",""))))))) | J17: =IF(G17="","",IF(YEAR(TODAY())-G17<=7,1,IF(AND(YEAR(TODAY())-G17>=8,YEAR(TODAY())-G17<=10),2,IF(AND(YEAR(TODAY())-G17>=11,YEAR(TODAY())-G17<=15),3,IF(AND(YEAR(TODAY())-G17>=16,YEAR(TODAY())-G17<=20),4,IF(AND(YEAR(TODAY())-G17>=21,YEAR(TODAY())-G17<=26),5,IF(YEAR(TODAY())-G17>=27,6,"")))))))
B18: 37. | I18: =IF(G18="","",IF(YEAR(TODAY())-G18<5,"",IF(OR(YEAR(TODAY())-G18=5,YEAR(TODAY())-G18=6),IF(F18="Jeseník","B","A"),IF(AND(YEAR(TODAY())-G18>=7,YEAR(TODAY())-G18<=26),IF(F18="Jeseník",IF(H18="ano","D","B"),IF(H18="ano","C","A")),IF(YEAR(TODAY())-G18>26,IF(H18="ano","E",IF(F18="Jeseník","F",""))))))) | J18: =IF(G18="","",IF(YEAR(TODAY())-G18<=7,1,IF(AND(YEAR(TODAY())-G18>=8,YEAR(TODAY())-G18<=10),2,IF(AND(YEAR(TODAY())-G18>=11,YEAR(TODAY())-G18<=15),3,IF(AND(YEAR(TODAY())-G18>=16,YEAR(TODAY())-G18<=20),4,IF(AND(YEAR(TODAY())-G18>=21,YEAR(TODAY())-G18<=26),5,IF(YEAR(TODAY())-G18>=27,6,"")))))))
B19: 38. | I19: =IF(G19="","",IF(YEAR(TODAY())-G19<5,"",IF(OR(YEAR(TODAY())-G19=5,YEAR(TODAY())-G19=6),IF(F19="Jeseník","B","A"),IF(AND(YEAR(TODAY())-G19>=7,YEAR(TODAY())-G19<=26),IF(F19="Jeseník",IF(H19="ano","D","B"),IF(H19="ano","C","A")),IF(YEAR(TODAY())-G19>26,IF(H19="ano","E",IF(F19="Jeseník","F",""))))))) | J19: =IF(G19="","",IF(YEAR(TODAY())-G19<=7,1,IF(AND(YEAR(TODAY())-G19>=8,YEAR(TODAY())-G19<=10),2,IF(AND(YEAR(TODAY())-G19>=11,YEAR(TODAY())-G19<=15),3,IF(AND(YEAR(TODAY())-G19>=16,YEAR(TODAY())-G19<=20),4,IF(AND(YEAR(TODAY())-G19>=21,YEAR(TODAY())-G19<=26),5,IF(YEAR(TODAY())-G19>=27,6,"")))))))
B20: 39. | I20: =IF(G20="","",IF(YEAR(TODAY())-G20<5,"",IF(OR(YEAR(TODAY())-G20=5,YEAR(TODAY())-G20=6),IF(F20="Jeseník","B","A"),IF(AND(YEAR(TODAY())-G20>=7,YEAR(TODAY())-G20<=26),IF(F20="Jeseník",IF(H20="ano","D","B"),IF(H20="ano","C","A")),IF(YEAR(TODAY())-G20>26,IF(H20="ano","E",IF(F20="Jeseník","F",""))))))) | J20: =IF(G20="","",IF(YEAR(TODAY())-G20<=7,1,IF(AND(YEAR(TODAY())-G20>=8,YEAR(TODAY())-G20<=10),2,IF(AND(YEAR(TODAY())-G20>=11,YEAR(TODAY())-G20<=15),3,IF(AND(YEAR(TODAY())-G20>=16,YEAR(TODAY())-G20<=20),4,IF(AND(YEAR(TODAY())-G20>=21,YEAR(TODAY())-G20<=26),5,IF(YEAR(TODAY())-G20>=27,6,"")))))))
B21: 40. | I21: =IF(G21="","",IF(YEAR(TODAY())-G21<5,"",IF(OR(YEAR(TODAY())-G21=5,YEAR(TODAY())-G21=6),IF(F21="Jeseník","B","A"),IF(AND(YEAR(TODAY())-G21>=7,YEAR(TODAY())-G21<=26),IF(F21="Jeseník",IF(H21="ano","D","B"),IF(H21="ano","C","A")),IF(YEAR(TODAY())-G21>26,IF(H21="ano","E",IF(F21="Jeseník","F",""))))))) | J21: =IF(G21="","",IF(YEAR(TODAY())-G21<=7,1,IF(AND(YEAR(TODAY())-G21>=8,YEAR(TODAY())-G21<=10),2,IF(AND(YEAR(TODAY())-G21>=11,YEAR(TODAY())-G21<=15),3,IF(AND(YEAR(TODAY())-G21>=16,YEAR(TODAY())-G21<=20),4,IF(AND(YEAR(TODAY())-G21>=21,YEAR(TODAY())-G21<=26),5,IF(YEAR(TODAY())-G21>=27,6,"")))))))
B22: 41. | I22: =IF(G22="","",IF(YEAR(TODAY())-G22<5,"",IF(OR(YEAR(TODAY())-G22=5,YEAR(TODAY())-G22=6),IF(F22="Jeseník","B","A"),IF(AND(YEAR(TODAY())-G22>=7,YEAR(TODAY())-G22<=26),IF(F22="Jeseník",IF(H22="ano","D","B"),IF(H22="ano","C","A")),IF(YEAR(TODAY())-G22>26,IF(H22="ano","E",IF(F22="Jeseník","F",""))))))) | J22: =IF(G22="","",IF(YEAR(TODAY())-G22<=7,1,IF(AND(YEAR(TODAY())-G22>=8,YEAR(TODAY())-G22<=10),2,IF(AND(YEAR(TODAY())-G22>=11,YEAR(TODAY())-G22<=15),3,IF(AND(YEAR(TODAY())-G22>=16,YEAR(TODAY())-G22<=20),4,IF(AND(YEAR(TODAY())-G22>=21,YEAR(TODAY())-G22<=26),5,IF(YEAR(TODAY())-G22>=27,6,"")))))))
B23: 42. | I23: =IF(G23="","",IF(YEAR(TODAY())-G23<5,"",IF(OR(YEAR(TODAY())-G23=5,YEAR(TODAY())-G23=6),IF(F23="Jeseník","B","A"),IF(AND(YEAR(TODAY())-G23>=7,YEAR(TODAY())-G23<=26),IF(F23="Jeseník",IF(H23="ano","D","B"),IF(H23="ano","C","A")),IF(YEAR(TODAY())-G23>26,IF(H23="ano","E",IF(F23="Jeseník","F",""))))))) | J23: =IF(G23="","",IF(YEAR(TODAY())-G23<=7,1,IF(AND(YEAR(TODAY())-G23>=8,YEAR(TODAY())-G23<=10),2,IF(AND(YEAR(TODAY())-G23>=11,YEAR(TODAY())-G23<=15),3,IF(AND(YEAR(TODAY())-G23>=16,YEAR(TODAY())-G23<=20),4,IF(AND(YEAR(TODAY())-G23>=21,YEAR(TODAY())-G23<=26),5,IF(YEAR(TODAY())-G23>=27,6,"")))))))
... B50: 69. | I50: =IF(G50="","",IF(YEAR(TODAY())-G50<5,"",IF(OR(YEAR(TODAY())-G50=5,YEAR(TODAY())-G50=6),IF(F50="Jeseník","B","A"),IF(AND(YEAR(TODAY())-G50>=7,YEAR(TODAY())-G50<=26),IF(F50="Jeseník",IF(H50="ano","D","B"),IF(H50="ano","C","A")),IF(YEAR(TODAY())-G50>26,IF(H50="ano","E",IF(F50="Jeseník","F",""))))))) | J50: =IF(G50="","",IF(YEAR(TODAY())-G50<=7,1,IF(AND(YEAR(TODAY())-G50>=8,YEAR(TODAY())-G50<=10),2,IF(AND(YEAR(TODAY())-G50>=11,YEAR(TODAY())-G50<=15),3,IF(AND(YEAR(TODAY())-G50>=16,YEAR(TODAY())-G50<=20),4,IF(AND(YEAR(TODAY())-G50>=21,YEAR(TODAY())-G50<=26),5,IF(YEAR(TODAY())-G50>=27,6,"")))))))
A52: --------------------------------------------------------------------------------------------------------------------------------------------
B54: Město Jeseník, Masarykovo nám. 167/1, 790 01 Jeseník, IČ: 00302724, tel.: 584498407, e-mail:david.koukal@jesenik.cz
I57: 2
C60: DOTACE z rozpočtu města Jeseník
B63: Pořadí | C63: Jméno | D63: Příjmení | F63: Město | G63: Rok nar. | H63: Soutěžící* | I63: KAT | K63: název tréninkové skupiny
B64: 70. | I64: =IF(G64="","",IF(YEAR(TODAY())-G64<5,"",IF(OR(YEAR(TODAY())-G64=5,YEAR(TODAY())-G64=6),IF(F64="Jeseník","B","A"),IF(AND(YEAR(TODAY())-G64>=7,YEAR(TODAY())-G64<=26),IF(F64="Jeseník",IF(H64="ano","D","B"),IF(H64="ano","C","A")),IF(YEAR(TODAY())-G64>26,IF(H64="ano","E",IF(F64="Jeseník","F",""))))))) | J64: =IF(G64="","",IF(YEAR(TODAY())-G64<=7,1,IF(AND(YEAR(TODAY())-G64>=8,YEAR(TODAY())-G64<=10),2,IF(AND(YEAR(TODAY())-G64>=11,YEAR(TODAY())-G64<=15),3,IF(AND(YEAR(TODAY())-G64>=16,YEAR(TODAY())-G64<=20),4,IF(AND(YEAR(TODAY())-G64>=21,YEAR(TODAY())-G64<=26),5,IF(YEAR(TODAY())-G64>=27,6,"")))))))
B65: 71. | I65: =IF(G65="","",IF(YEAR(TODAY())-G65<5,"",IF(OR(YEAR(TODAY())-G65=5,YEAR(TODAY())-G65=6),IF(F65="Jeseník","B","A"),IF(AND(YEAR(TODAY())-G65>=7,YEAR(TODAY())-G65<=26),IF(F65="Jeseník",IF(H65="ano","D","B"),IF(H65="ano","C","A")),IF(YEAR(TODAY())-G65>26,IF(H65="ano","E",IF(F65="Jeseník","F",""))))))) | J65: =IF(G65="","",IF(YEAR(TODAY())-G65<=7,1,IF(AND(YEAR(TODAY())-G65>=8,YEAR(TODAY())-G65<=10),2,IF(AND(YEAR(TODAY())-G65>=11,YEAR(TODAY())-G65<=15),3,IF(AND(YEAR(TODAY())-G65>=16,YEAR(TODAY())-G65<=20),4,IF(AND(YEAR(TODAY())-G65>=21,YEAR(TODAY())-G65<=26),5,IF(YEAR(TODAY())-G65>=27,6,"")))))))
B66: 72. | I66: =IF(G66="","",IF(YEAR(TODAY())-G66<5,"",IF(OR(YEAR(TODAY())-G66=5,YEAR(TODAY())-G66=6),IF(F66="Jeseník","B","A"),IF(AND(YEAR(TODAY())-G66>=7,YEAR(TODAY())-G66<=26),IF(F66="Jeseník",IF(H66="ano","D","B"),IF(H66="ano","C","A")),IF(YEAR(TODAY())-G66>26,IF(H66="ano","E",IF(F66="Jeseník","F",""))))))) | J66: =IF(G66="","",IF(YEAR(TODAY())-G66<=7,1,IF(AND(YEAR(TODAY())-G66>=8,YEAR(TODAY())-G66<=10),2,IF(AND(YEAR(TODAY())-G66>=11,YEAR(TODAY())-G66<=15),3,IF(AND(YEAR(TODAY())-G66>=16,YEAR(TODAY())-G66<=20),4,IF(AND(YEAR(TODAY())-G66>=21,YEAR(TODAY())-G66<=26),5,IF(YEAR(TODAY())-G66>=27,6,"")))))))
B67: 73. | I67: =IF(G67="","",IF(YEAR(TODAY())-G67<5,"",IF(OR(YEAR(TODAY())-G67=5,YEAR(TODAY())-G67=6),IF(F67="Jeseník","B","A"),IF(AND(YEAR(TODAY())-G67>=7,YEAR(TODAY())-G67<=26),IF(F67="Jeseník",IF(H67="ano","D","B"),IF(H67="ano","C","A")),IF(YEAR(TODAY())-G67>26,IF(H67="ano","E",IF(F67="Jeseník","F",""))))))) | J67: =IF(G67="","",IF(YEAR(TODAY())-G67<=7,1,IF(AND(YEAR(TODAY())-G67>=8,YEAR(TODAY())-G67<=10),2,IF(AND(YEAR(TODAY())-G67>=11,YEAR(TODAY())-G67<=15),3,IF(AND(YEAR(TODAY())-G67>=16,YEAR(TODAY())-G67<=20),4,IF(AND(YEAR(TODAY())-G67>=21,YEAR(TODAY())-G67<=26),5,IF(YEAR(TODAY())-G67>=27,6,"")))))))
B68: 74. | I68: =IF(G68="","",IF(YEAR(TODAY())-G68<5,"",IF(OR(YEAR(TODAY())-G68=5,YEAR(TODAY())-G68=6),IF(F68="Jeseník","B","A"),IF(AND(YEAR(TODAY())-G68>=7,YEAR(TODAY())-G68<=26),IF(F68="Jeseník",IF(H68="ano","D","B"),IF(H68="ano","C","A")),IF(YEAR(TODAY())-G68>26,IF(H68="ano","E",IF(F68="Jeseník","F",""))))))) | J68: =IF(G68="","",IF(YEAR(TODAY())-G68<=7,1,IF(AND(YEAR(TODAY())-G68>=8,YEAR(TODAY())-G68<=10),2,IF(AND(YEAR(TODAY())-G68>=11,YEAR(TODAY())-G68<=15),3,IF(AND(YEAR(TODAY())-G68>=16,YEAR(TODAY())-G68<=20),4,IF(AND(YEAR(TODAY())-G68>=21,YEAR(TODAY())-G68<=26),5,IF(YEAR(TODAY())-G68>=27,6,"")))))))
B69: 75. | I69: =IF(G69="","",IF(YEAR(TODAY())-G69<5,"",IF(OR(YEAR(TODAY())-G69=5,YEAR(TODAY())-G69=6),IF(F69="Jeseník","B","A"),IF(AND(YEAR(TODAY())-G69>=7,YEAR(TODAY())-G69<=26),IF(F69="Jeseník",IF(H69="ano","D","B"),IF(H69="ano","C","A")),IF(YEAR(TODAY())-G69>26,IF(H69="ano","E",IF(F69="Jeseník","F",""))))))) | J69: =IF(G69="","",IF(YEAR(TODAY())-G69<=7,1,IF(AND(YEAR(TODAY())-G69>=8,YEAR(TODAY())-G69<=10),2,IF(AND(YEAR(TODAY())-G69>=11,YEAR(TODAY())-G69<=15),3,IF(AND(YEAR(TODAY())-G69>=16,YEAR(TODAY())-G69<=20),4,IF(AND(YEAR(TODAY())-G69>=21,YEAR(TODAY())-G69<=26),5,IF(YEAR(TODAY())-G69>=27,6,"")))))))
B70: 76. | I70: =IF(G70="","",IF(YEAR(TODAY())-G70<5,"",IF(OR(YEAR(TODAY())-G70=5,YEAR(TODAY())-G70=6),IF(F70="Jeseník","B","A"),IF(AND(YEAR(TODAY())-G70>=7,YEAR(TODAY())-G70<=26),IF(F70="Jeseník",IF(H70="ano","D","B"),IF(H70="ano","C","A")),IF(YEAR(TODAY())-G70>26,IF(H70="ano","E",IF(F70="Jeseník","F",""))))))) | J70: =IF(G70="","",IF(YEAR(TODAY())-G70<=7,1,IF(AND(YEAR(TODAY())-G70>=8,YEAR(TODAY())-G70<=10),2,IF(AND(YEAR(TODAY())-G70>=11,YEAR(TODAY())-G70<=15),3,IF(AND(YEAR(TODAY())-G70>=16,YEAR(TODAY())-G70<=20),4,IF(AND(YEAR(TODAY())-G70>=21,YEAR(TODAY())-G70<=26),5,IF(YEAR(TODAY())-G70>=27,6,"")))))))
B71: 77. | I71: =IF(G71="","",IF(YEAR(TODAY())-G71<5,"",IF(OR(YEAR(TODAY())-G71=5,YEAR(TODAY())-G71=6),IF(F71="Jeseník","B","A"),IF(AND(YEAR(TODAY())-G71>=7,YEAR(TODAY())-G71<=26),IF(F71="Jeseník",IF(H71="ano","D","B"),IF(H71="ano","C","A")),IF(YEAR(TODAY())-G71>26,IF(H71="ano","E",IF(F71="Jeseník","F",""))))))) | J71: =IF(G71="","",IF(YEAR(TODAY())-G71<=7,1,IF(AND(YEAR(TODAY())-G71>=8,YEAR(TODAY())-G71<=10),2,IF(AND(YEAR(TODAY())-G71>=11,YEAR(TODAY())-G71<=15),3,IF(AND(YEAR(TODAY())-G71>=16,YEAR(TODAY())-G71<=20),4,IF(AND(YEAR(TODAY())-G71>=21,YEAR(TODAY())-G71<=26),5,IF(YEAR(TODAY())-G71>=27,6,"")))))))
B72: 78. | I72: =IF(G72="","",IF(YEAR(TODAY())-G72<5,"",IF(OR(YEAR(TODAY())-G72=5,YEAR(TODAY())-G72=6),IF(F72="Jeseník","B","A"),IF(AND(YEAR(TODAY())-G72>=7,YEAR(TODAY())-G72<=26),IF(F72="Jeseník",IF(H72="ano","D","B"),IF(H72="ano","C","A")),IF(YEAR(TODAY())-G72>26,IF(H72="ano","E",IF(F72="Jeseník","F",""))))))) | J72: =IF(G72="","",IF(YEAR(TODAY())-G72<=7,1,IF(AND(YEAR(TODAY())-G72>=8,YEAR(TODAY())-G72<=10),2,IF(AND(YEAR(TODAY())-G72>=11,YEAR(TODAY())-G72<=15),3,IF(AND(YEAR(TODAY())-G72>=16,YEAR(TODAY())-G72<=20),4,IF(AND(YEAR(TODAY())-G72>=21,YEAR(TODAY())-G72<=26),5,IF(YEAR(TODAY())-G72>=27,6,"")))))))
B73: 79. | I73: =IF(G73="","",IF(YEAR(TODAY())-G73<5,"",IF(OR(YEAR(TODAY())-G73=5,YEAR(TODAY())-G73=6),IF(F73="Jeseník","B","A"),IF(AND(YEAR(TODAY())-G73>=7,YEAR(TODAY())-G73<=26),IF(F73="Jeseník",IF(H73="ano","D","B"),IF(H73="ano","C","A")),IF(YEAR(TODAY())-G73>26,IF(H73="ano","E",IF(F73="Jeseník","F",""))))))) | J73: =IF(G73="","",IF(YEAR(TODAY())-G73<=7,1,IF(AND(YEAR(TODAY())-G73>=8,YEAR(TODAY())-G73<=10),2,IF(AND(YEAR(TODAY())-G73>=11,YEAR(TODAY())-G73<=15),3,IF(AND(YEAR(TODAY())-G73>=16,YEAR(TODAY())-G73<=20),4,IF(AND(YEAR(TODAY())-G73>=21,YEAR(TODAY())-G73<=26),5,IF(YEAR(TODAY())-G73>=27,6,"")))))))
B74: 80. | I74: =IF(G74="","",IF(YEAR(TODAY())-G74<5,"",IF(OR(YEAR(TODAY())-G74=5,YEAR(TODAY())-G74=6),IF(F74="Jeseník","B","A"),IF(AND(YEAR(TODAY())-G74>=7,YEAR(TODAY())-G74<=26),IF(F74="Jeseník",IF(H74="ano","D","B"),IF(H74="ano","C","A")),IF(YEAR(TODAY())-G74>26,IF(H74="ano","E",IF(F74="Jeseník","F",""))))))) | J74: =IF(G74="","",IF(YEAR(TODAY())-G74<=7,1,IF(AND(YEAR(TODAY())-G74>=8,YEAR(TODAY())-G74<=10),2,IF(AND(YEAR(TODAY())-G74>=11,YEAR(TODAY())-G74<=15),3,IF(AND(YEAR(TODAY())-G74>=16,YEAR(TODAY())-G74<=20),4,IF(AND(YEAR(TODAY())-G74>=21,YEAR(TODAY())-G74<=26),5,IF(YEAR(TODAY())-G74>=27,6,"")))))))
B75: 81. | I75: =IF(G75="","",IF(YEAR(TODAY())-G75<5,"",IF(OR(YEAR(TODAY())-G75=5,YEAR(TODAY())-G75=6),IF(F75="Jeseník","B","A"),IF(AND(YEAR(TODAY())-G75>=7,YEAR(TODAY())-G75<=26),IF(F75="Jeseník",IF(H75="ano","D","B"),IF(H75="ano","C","A")),IF(YEAR(TODAY())-G75>26,IF(H75="ano","E",IF(F75="Jeseník","F",""))))))) | J75: =IF(G75="","",IF(YEAR(TODAY())-G75<=7,1,IF(AND(YEAR(TODAY())-G75>=8,YEAR(TODAY())-G75<=10),2,IF(AND(YEAR(TODAY())-G75>=11,YEAR(TODAY())-G75<=15),3,IF(AND(YEAR(TODAY())-G75>=16,YEAR(TODAY())-G75<=20),4,IF(AND(YEAR(TODAY())-G75>=21,YEAR(TODAY())-G75<=26),5,IF(YEAR(TODAY())-G75>=27,6,"")))))))
... B104: 110. | I104: =IF(G104="","",IF(YEAR(TODAY())-G104<5,"",IF(OR(YEAR(TODAY())-G104=5,YEAR(TODAY())-G104=6),IF(F104="Jeseník","B","A"),IF(AND(YEAR(TODAY())-G104>=7,YEAR(TODAY())-G104<=26),IF(F104="Jeseník",IF(H104="ano","D","B"),IF(H104="ano","C","A")),IF(YEAR(TODAY())-G104>26,IF(H104="ano","E",IF(F104="Jeseník","F",""))))))) | J104: =IF(G104="","",IF(YEAR(TODAY())-G104<=7,1,IF(AND(YEAR(TODAY())-G104>=8,YEAR(TODAY())-G104<=10),2,IF(AND(YEAR(TODAY())-G104>=11,YEAR(TODAY())-G104<=15),3,IF(AND(YEAR(TODAY())-G104>=16,YEAR(TODAY())-G104<=20),4,IF(AND(YEAR(TODAY())-G104>=21,YEAR(TODAY())-G104<=26),5,IF(YEAR(TODAY())-G104>=27,6,"")))))))
B105: 111. | I105: =IF(G105="","",IF(YEAR(TODAY())-G105<5,"",IF(OR(YEAR(TODAY())-G105=5,YEAR(TODAY())-G105=6),IF(F105="Jeseník","B","A"),IF(AND(YEAR(TODAY())-G105>=7,YEAR(TODAY())-G105<=26),IF(F105="Jeseník",IF(H105="ano","D","B"),IF(H105="ano","C","A")),IF(YEAR(TODAY())-G105>26,IF(H105="ano","E",IF(F105="Jeseník","F","")))))))
A107: --------------------------------------------------------------------------------------------------------------------------------------------
B109: Město Jeseník, Masarykovo nám. 167/1, 790 01 Jeseník, IČ: 00302724, tel.: 584498407, e-mail:david.koukal@jesenik.cz
I112: 3
C115: DOTACE z rozpočtu města Jeseník
B118: Pořadí | C118: Jméno | D118: Příjmení | F118: Město | G118: Rok nar. | H118: Soutěžící* | I118: KAT | K118: název tréninkové skupiny
B119: 112. | I119: =IF(G119="","",IF(YEAR(TODAY())-G119<5,"",IF(OR(YEAR(TODAY())-G119=5,YEAR(TODAY())-G119=6),IF(F119="Jeseník","B","A"),IF(AND(YEAR(TODAY())-G119>=7,YEAR(TODAY())-G119<=26),IF(F119="Jeseník",IF(H119="ano","D","B"),IF(H119="ano","C","A")),IF(YEAR(TODAY())-G119>26,IF(H119="ano","E",IF(F119="Jeseník","F",""))))))) | J119: =IF(G119="","",IF(YEAR(TODAY())-G119<=7,1,IF(AND(YEAR(TODAY())-G119>=8,YEAR(TODAY())-G119<=10),2,IF(AND(YEAR(TODAY())-G119>=11,YEAR(TODAY())-G119<=15),3,IF(AND(YEAR(TODAY())-G119>=16,YEAR(TODAY())-G119<=20),4,IF(AND(YEAR(TODAY())-G119>=21,YEAR(TODAY())-G119<=26),5,IF(YEAR(TODAY())-G119>=27,6,"")))))))
B120: 113. | I120: =IF(G120="","",IF(YEAR(TODAY())-G120<5,"",IF(OR(YEAR(TODAY())-G120=5,YEAR(TODAY())-G120=6),IF(F120="Jeseník","B","A"),IF(AND(YEAR(TODAY())-G120>=7,YEAR(TODAY())-G120<=26),IF(F120="Jeseník",IF(H120="ano","D","B"),IF(H120="ano","C","A")),IF(YEAR(TODAY())-G120>26,IF(H120="ano","E",IF(F120="Jeseník","F",""))))))) | J120: =IF(G120="","",IF(YEAR(TODAY())-G120<=7,1,IF(AND(YEAR(TODAY())-G120>=8,YEAR(TODAY())-G120<=10),2,IF(AND(YEAR(TODAY())-G120>=11,YEAR(TODAY())-G120<=15),3,IF(AND(YEAR(TODAY())-G120>=16,YEAR(TODAY())-G120<=20),4,IF(AND(YEAR(TODAY())-G120>=21,YEAR(TODAY())-G120<=26),5,IF(YEAR(TODAY())-G120>=27,6,"")))))))
B121: 114. | I121: =IF(G121="","",IF(YEAR(TODAY())-G121<5,"",IF(OR(YEAR(TODAY())-G121=5,YEAR(TODAY())-G121=6),IF(F121="Jeseník","B","A"),IF(AND(YEAR(TODAY())-G121>=7,YEAR(TODAY())-G121<=26),IF(F121="Jeseník",IF(H121="ano","D","B"),IF(H121="ano","C","A")),IF(YEAR(TODAY())-G121>26,IF(H121="ano","E",IF(F121="Jeseník","F",""))))))) | J121: =IF(G121="","",IF(YEAR(TODAY())-G121<=7,1,IF(AND(YEAR(TODAY())-G121>=8,YEAR(TODAY())-G121<=10),2,IF(AND(YEAR(TODAY())-G121>=11,YEAR(TODAY())-G121<=15),3,IF(AND(YEAR(TODAY())-G121>=16,YEAR(TODAY())-G121<=20),4,IF(AND(YEAR(TODAY())-G121>=21,YEAR(TODAY())-G121<=26),5,IF(YEAR(TODAY())-G121>=27,6,"")))))))
B122: 115. | I122: =IF(G122="","",IF(YEAR(TODAY())-G122<5,"",IF(OR(YEAR(TODAY())-G122=5,YEAR(TODAY())-G122=6),IF(F122="Jeseník","B","A"),IF(AND(YEAR(TODAY())-G122>=7,YEAR(TODAY())-G122<=26),IF(F122="Jeseník",IF(H122="ano","D","B"),IF(H122="ano","C","A")),IF(YEAR(TODAY())-G122>26,IF(H122="ano","E",IF(F122="Jeseník","F",""))))))) | J122: =IF(G122="","",IF(YEAR(TODAY())-G122<=7,1,IF(AND(YEAR(TODAY())-G122>=8,YEAR(TODAY())-G122<=10),2,IF(AND(YEAR(TODAY())-G122>=11,YEAR(TODAY())-G122<=15),3,IF(AND(YEAR(TODAY())-G122>=16,YEAR(TODAY())-G122<=20),4,IF(AND(YEAR(TODAY())-G122>=21,YEAR(TODAY())-G122<=26),5,IF(YEAR(TODAY())-G122>=27,6,"")))))))
B123: 116. | I123: =IF(G123="","",IF(YEAR(TODAY())-G123<5,"",IF(OR(YEAR(TODAY())-G123=5,YEAR(TODAY())-G123=6),IF(F123="Jeseník","B","A"),IF(AND(YEAR(TODAY())-G123>=7,YEAR(TODAY())-G123<=26),IF(F123="Jeseník",IF(H123="ano","D","B"),IF(H123="ano","C","A")),IF(YEAR(TODAY())-G123>26,IF(H123="ano","E",IF(F123="Jeseník","F",""))))))) | J123: =IF(G123="","",IF(YEAR(TODAY())-G123<=7,1,IF(AND(YEAR(TODAY())-G123>=8,YEAR(TODAY())-G123<=10),2,IF(AND(YEAR(TODAY())-G123>=11,YEAR(TODAY())-G123<=15),3,IF(AND(YEAR(TODAY())-G123>=16,YEAR(TODAY())-G123<=20),4,IF(AND(YEAR(TODAY())-G123>=21,YEAR(TODAY())-G123<=26),5,IF(YEAR(TODAY())-G123>=27,6,"")))))))
B124: 117. | I124: =IF(G124="","",IF(YEAR(TODAY())-G124<5,"",IF(OR(YEAR(TODAY())-G124=5,YEAR(TODAY())-G124=6),IF(F124="Jeseník","B","A"),IF(AND(YEAR(TODAY())-G124>=7,YEAR(TODAY())-G124<=26),IF(F124="Jeseník",IF(H124="ano","D","B"),IF(H124="ano","C","A")),IF(YEAR(TODAY())-G124>26,IF(H124="ano","E",IF(F124="Jeseník","F",""))))))) | J124: =IF(G124="","",IF(YEAR(TODAY())-G124<=7,1,IF(AND(YEAR(TODAY())-G124>=8,YEAR(TODAY())-G124<=10),2,IF(AND(YEAR(TODAY())-G124>=11,YEAR(TODAY())-G124<=15),3,IF(AND(YEAR(TODAY())-G124>=16,YEAR(TODAY())-G124<=20),4,IF(AND(YEAR(TODAY())-G124>=21,YEAR(TODAY())-G124<=26),5,IF(YEAR(TODAY())-G124>=27,6,"")))))))
B125: 118. | I125: =IF(G125="","",IF(YEAR(TODAY())-G125<5,"",IF(OR(YEAR(TODAY())-G125=5,YEAR(TODAY())-G125=6),IF(F125="Jeseník","B","A"),IF(AND(YEAR(TODAY())-G125>=7,YEAR(TODAY())-G125<=26),IF(F125="Jeseník",IF(H125="ano","D","B"),IF(H125="ano","C","A")),IF(YEAR(TODAY())-G125>26,IF(H125="ano","E",IF(F125="Jeseník","F",""))))))) | J125: =IF(G125="","",IF(YEAR(TODAY())-G125<=7,1,IF(AND(YEAR(TODAY())-G125>=8,YEAR(TODAY())-G125<=10),2,IF(AND(YEAR(TODAY())-G125>=11,YEAR(TODAY())-G125<=15),3,IF(AND(YEAR(TODAY())-G125>=16,YEAR(TODAY())-G125<=20),4,IF(AND(YEAR(TODAY())-G125>=21,YEAR(TODAY())-G125<=26),5,IF(YEAR(TODAY())-G125>=27,6,"")))))))
B126: 119. | I126: =IF(G126="","",IF(YEAR(TODAY())-G126<5,"",IF(OR(YEAR(TODAY())-G126=5,YEAR(TODAY())-G126=6),IF(F126="Jeseník","B","A"),IF(AND(YEAR(TODAY())-G126>=7,YEAR(TODAY())-G126<=26),IF(F126="Jeseník",IF(H126="ano","D","B"),IF(H126="ano","C","A")),IF(YEAR(TODAY())-G126>26,IF(H126="ano","E",IF(F126="Jeseník","F",""))))))) | J126: =IF(G126="","",IF(YEAR(TODAY())-G126<=7,1,IF(AND(YEAR(TODAY())-G126>=8,YEAR(TODAY())-G126<=10),2,IF(AND(YEAR(TODAY())-G126>=11,YEAR(TODAY())-G126<=15),3,IF(AND(YEAR(TODAY())-G126>=16,YEAR(TODAY())-G126<=20),4,IF(AND(YEAR(TODAY())-G126>=21,YEAR(TODAY())-G126<=26),5,IF(YEAR(TODAY())-G126>=27,6,"")))))))
B127: 120. | I127: =IF(G127="","",IF(YEAR(TODAY())-G127<5,"",IF(OR(YEAR(TODAY())-G127=5,YEAR(TODAY())-G127=6),IF(F127="Jeseník","B","A"),IF(AND(YEAR(TODAY())-G127>=7,YEAR(TODAY())-G127<=26),IF(F127="Jeseník",IF(H127="ano","D","B"),IF(H127="ano","C","A")),IF(YEAR(TODAY())-G127>26,IF(H127="ano","E",IF(F127="Jeseník","F",""))))))) | J127: =IF(G127="","",IF(YEAR(TODAY())-G127<=7,1,IF(AND(YEAR(TODAY())-G127>=8,YEAR(TODAY())-G127<=10),2,IF(AND(YEAR(TODAY())-G127>=11,YEAR(TODAY())-G127<=15),3,IF(AND(YEAR(TODAY())-G127>=16,YEAR(TODAY())-G127<=20),4,IF(AND(YEAR(TODAY())-G127>=21,YEAR(TODAY())-G127<=26),5,IF(YEAR(TODAY())-G127>=27,6,"")))))))
B128: 121. | I128: =IF(G128="","",IF(YEAR(TODAY())-G128<5,"",IF(OR(YEAR(TODAY())-G128=5,YEAR(TODAY())-G128=6),IF(F128="Jeseník","B","A"),IF(AND(YEAR(TODAY())-G128>=7,YEAR(TODAY())-G128<=26),IF(F128="Jeseník",IF(H128="ano","D","B"),IF(H128="ano","C","A")),IF(YEAR(TODAY())-G128>26,IF(H128="ano","E",IF(F128="Jeseník","F",""))))))) | J128: =IF(G128="","",IF(YEAR(TODAY())-G128<=7,1,IF(AND(YEAR(TODAY())-G128>=8,YEAR(TODAY())-G128<=10),2,IF(AND(YEAR(TODAY())-G128>=11,YEAR(TODAY())-G128<=15),3,IF(AND(YEAR(TODAY())-G128>=16,YEAR(TODAY())-G128<=20),4,IF(AND(YEAR(TODAY())-G128>=21,YEAR(TODAY())-G128<=26),5,IF(YEAR(TODAY())-G128>=27,6,"")))))))
B129: 122. | I129: =IF(G129="","",IF(YEAR(TODAY())-G129<5,"",IF(OR(YEAR(TODAY())-G129=5,YEAR(TODAY())-G129=6),IF(F129="Jeseník","B","A"),IF(AND(YEAR(TODAY())-G129>=7,YEAR(TODAY())-G129<=26),IF(F129="Jeseník",IF(H129="ano","D","B"),IF(H129="ano","C","A")),IF(YEAR(TODAY())-G129>26,IF(H129="ano","E",IF(F129="Jeseník","F",""))))))) | J129: =IF(G129="","",IF(YEAR(TODAY())-G129<=7,1,IF(AND(YEAR(TODAY())-G129>=8,YEAR(TODAY())-G129<=10),2,IF(AND(YEAR(TODAY())-G129>=11,YEAR(TODAY())-G129<=15),3,IF(AND(YEAR(TODAY())-G129>=16,YEAR(TODAY())-G129<=20),4,IF(AND(YEAR(TODAY())-G129>=21,YEAR(TODAY())-G129<=26),5,IF(YEAR(TODAY())-G129>=27,6,"")))))))
B130: 123. | I130: =IF(G130="","",IF(YEAR(TODAY())-G130<5,"",IF(OR(YEAR(TODAY())-G130=5,YEAR(TODAY())-G130=6),IF(F130="Jeseník","B","A"),IF(AND(YEAR(TODAY())-G130>=7,YEAR(TODAY())-G130<=26),IF(F130="Jeseník",IF(H130="ano","D","B"),IF(H130="ano","C","A")),IF(YEAR(TODAY())-G130>26,IF(H130="ano","E",IF(F130="Jeseník","F",""))))))) | J130: =IF(G130="","",IF(YEAR(TODAY())-G130<=7,1,IF(AND(YEAR(TODAY())-G130>=8,YEAR(TODAY())-G130<=10),2,IF(AND(YEAR(TODAY())-G130>=11,YEAR(TODAY())-G130<=15),3,IF(AND(YEAR(TODAY())-G130>=16,YEAR(TODAY())-G130<=20),4,IF(AND(YEAR(TODAY())-G130>=21,YEAR(TODAY())-G130<=26),5,IF(YEAR(TODAY())-G130>=27,6,"")))))))
... B160: 153. | I160: =IF(G160="","",IF(YEAR(TODAY())-G160<5,"",IF(OR(YEAR(TODAY())-G160=5,YEAR(TODAY())-G160=6),IF(F160="Jeseník","B","A"),IF(AND(YEAR(TODAY())-G160>=7,YEAR(TODAY())-G160<=26),IF(F160="Jeseník",IF(H160="ano","D","B"),IF(H160="ano","C","A")),IF(YEAR(TODAY())-G160>26,IF(H160="ano","E",IF(F160="Jeseník","F",""))))))) | J160: =IF(G160="","",IF(YEAR(TODAY())-G160<=7,1,IF(AND(YEAR(TODAY())-G160>=8,YEAR(TODAY())-G160<=10),2,IF(AND(YEAR(TODAY())-G160>=11,YEAR(TODAY())-G160<=15),3,IF(AND(YEAR(TODAY())-G160>=16,YEAR(TODAY())-G160<=20),4,IF(AND(YEAR(TODAY())-G160>=21,YEAR(TODAY())-G160<=26),5,IF(YEAR(TODAY())-G160>=27,6,"")))))))
A162: --------------------------------------------------------------------------------------------------------------------------------------------
B164: Město Jeseník, Masarykovo nám. 167/1, 790 01 Jeseník, IČ: 00302724, tel.: 584498407, e-mail:david.koukal@jesenik.cz
I167: 4
C170: DOTACE z rozpočtu města Jeseník
B173: Pořadí | C173: Jméno | D173: Příjmení | F173: Město | G173: Rok nar. | H173: Soutěžící* | I173: KAT | K173: název tréninkové skupiny
B174: 154. | I174: =IF(G174="","",IF(YEAR(TODAY())-G174<5,"",IF(OR(YEAR(TODAY())-G174=5,YEAR(TODAY())-G174=6),IF(F174="Jeseník","B","A"),IF(AND(YEAR(TODAY())-G174>=7,YEAR(TODAY())-G174<=26),IF(F174="Jeseník",IF(H174="ano","D","B"),IF(H174="ano","C","A")),IF(YEAR(TODAY())-G174>26,IF(H174="ano","E",IF(F174="Jeseník","F",""))))))) | J174: =IF(G174="","",IF(YEAR(TODAY())-G174<=7,1,IF(AND(YEAR(TODAY())-G174>=8,YEAR(TODAY())-G174<=10),2,IF(AND(YEAR(TODAY())-G174>=11,YEAR(TODAY())-G174<=15),3,IF(AND(YEAR(TODAY())-G174>=16,YEAR(TODAY())-G174<=20),4,IF(AND(YEAR(TODAY())-G174>=21,YEAR(TODAY())-G174<=26),5,IF(YEAR(TODAY())-G174>=27,6,"")))))))
B175: 155. | I175: =IF(G175="","",IF(YEAR(TODAY())-G175<5,"",IF(OR(YEAR(TODAY())-G175=5,YEAR(TODAY())-G175=6),IF(F175="Jeseník","B","A"),IF(AND(YEAR(TODAY())-G175>=7,YEAR(TODAY())-G175<=26),IF(F175="Jeseník",IF(H175="ano","D","B"),IF(H175="ano","C","A")),IF(YEAR(TODAY())-G175>26,IF(H175="ano","E",IF(F175="Jeseník","F",""))))))) | J175: =IF(G175="","",IF(YEAR(TODAY())-G175<=7,1,IF(AND(YEAR(TODAY())-G175>=8,YEAR(TODAY())-G175<=10),2,IF(AND(YEAR(TODAY())-G175>=11,YEAR(TODAY())-G175<=15),3,IF(AND(YEAR(TODAY())-G175>=16,YEAR(TODAY())-G175<=20),4,IF(AND(YEAR(TODAY())-G175>=21,YEAR(TODAY())-G175<=26),5,IF(YEAR(TODAY())-G175>=27,6,"")))))))
B176: 156. | I176: =IF(G176="","",IF(YEAR(TODAY())-G176<5,"",IF(OR(YEAR(TODAY())-G176=5,YEAR(TODAY())-G176=6),IF(F176="Jeseník","B","A"),IF(AND(YEAR(TODAY())-G176>=7,YEAR(TODAY())-G176<=26),IF(F176="Jeseník",IF(H176="ano","D","B"),IF(H176="ano","C","A")),IF(YEAR(TODAY())-G176>26,IF(H176="ano","E",IF(F176="Jeseník","F",""))))))) | J176: =IF(G176="","",IF(YEAR(TODAY())-G176<=7,1,IF(AND(YEAR(TODAY())-G176>=8,YEAR(TODAY())-G176<=10),2,IF(AND(YEAR(TODAY())-G176>=11,YEAR(TODAY())-G176<=15),3,IF(AND(YEAR(TODAY())-G176>=16,YEAR(TODAY())-G176<=20),4,IF(AND(YEAR(TODAY())-G176>=21,YEAR(TODAY())-G176<=26),5,IF(YEAR(TODAY())-G176>=27,6,"")))))))
B177: 157. | I177: =IF(G177="","",IF(YEAR(TODAY())-G177<5,"",IF(OR(YEAR(TODAY())-G177=5,YEAR(TODAY())-G177=6),IF(F177="Jeseník","B","A"),IF(AND(YEAR(TODAY())-G177>=7,YEAR(TODAY())-G177<=26),IF(F177="Jeseník",IF(H177="ano","D","B"),IF(H177="ano","C","A")),IF(YEAR(TODAY())-G177>26,IF(H177="ano","E",IF(F177="Jeseník","F",""))))))) | J177: =IF(G177="","",IF(YEAR(TODAY())-G177<=7,1,IF(AND(YEAR(TODAY())-G177>=8,YEAR(TODAY())-G177<=10),2,IF(AND(YEAR(TODAY())-G177>=11,YEAR(TODAY())-G177<=15),3,IF(AND(YEAR(TODAY())-G177>=16,YEAR(TODAY())-G177<=20),4,IF(AND(YEAR(TODAY())-G177>=21,YEAR(TODAY())-G177<=26),5,IF(YEAR(TODAY())-G177>=27,6,"")))))))
B178: 158. | I178: =IF(G178="","",IF(YEAR(TODAY())-G178<5,"",IF(OR(YEAR(TODAY())-G178=5,YEAR(TODAY())-G178=6),IF(F178="Jeseník","B","A"),IF(AND(YEAR(TODAY())-G178>=7,YEAR(TODAY())-G178<=26),IF(F178="Jeseník",IF(H178="ano","D","B"),IF(H178="ano","C","A")),IF(YEAR(TODAY())-G178>26,IF(H178="ano","E",IF(F178="Jeseník","F",""))))))) | J178: =IF(G178="","",IF(YEAR(TODAY())-G178<=7,1,IF(AND(YEAR(TODAY())-G178>=8,YEAR(TODAY())-G178<=10),2,IF(AND(YEAR(TODAY())-G178>=11,YEAR(TODAY())-G178<=15),3,IF(AND(YEAR(TODAY())-G178>=16,YEAR(TODAY())-G178<=20),4,IF(AND(YEAR(TODAY())-G178>=21,YEAR(TODAY())-G178<=26),5,IF(YEAR(TODAY())-G178>=27,6,"")))))))
B179: 159. | I179: =IF(G179="","",IF(YEAR(TODAY())-G179<5,"",IF(OR(YEAR(TODAY())-G179=5,YEAR(TODAY())-G179=6),IF(F179="Jeseník","B","A"),IF(AND(YEAR(TODAY())-G179>=7,YEAR(TODAY())-G179<=26),IF(F179="Jeseník",IF(H179="ano","D","B"),IF(H179="ano","C","A")),IF(YEAR(TODAY())-G179>26,IF(H179="ano","E",IF(F179="Jeseník","F",""))))))) | J179: =IF(G179="","",IF(YEAR(TODAY())-G179<=7,1,IF(AND(YEAR(TODAY())-G179>=8,YEAR(TODAY())-G179<=10),2,IF(AND(YEAR(TODAY())-G179>=11,YEAR(TODAY())-G179<=15),3,IF(AND(YEAR(TODAY())-G179>=16,YEAR(TODAY())-G179<=20),4,IF(AND(YEAR(TODAY())-G179>=21,YEAR(TODAY())-G179<=26),5,IF(YEAR(TODAY())-G179>=27,6,"")))))))
B180: 160. | I180: =IF(G180="","",IF(YEAR(TODAY())-G180<5,"",IF(OR(YEAR(TODAY())-G180=5,YEAR(TODAY())-G180=6),IF(F180="Jeseník","B","A"),IF(AND(YEAR(TODAY())-G180>=7,YEAR(TODAY())-G180<=26),IF(F180="Jeseník",IF(H180="ano","D","B"),IF(H180="ano","C","A")),IF(YEAR(TODAY())-G180>26,IF(H180="ano","E",IF(F180="Jeseník","F",""))))))) | J180: =IF(G180="","",IF(YEAR(TODAY())-G180<=7,1,IF(AND(YEAR(TODAY())-G180>=8,YEAR(TODAY())-G180<=10),2,IF(AND(YEAR(TODAY())-G180>=11,YEAR(TODAY())-G180<=15),3,IF(AND(YEAR(TODAY())-G180>=16,YEAR(TODAY())-G180<=20),4,IF(AND(YEAR(TODAY())-G180>=21,YEAR(TODAY())-G180<=26),5,IF(YEAR(TODAY())-G180>=27,6,"")))))))
B181: 161. | I181: =IF(G181="","",IF(YEAR(TODAY())-G181<5,"",IF(OR(YEAR(TODAY())-G181=5,YEAR(TODAY())-G181=6),IF(F181="Jeseník","B","A"),IF(AND(YEAR(TODAY())-G181>=7,YEAR(TODAY())-G181<=26),IF(F181="Jeseník",IF(H181="ano","D","B"),IF(H181="ano","C","A")),IF(YEAR(TODAY())-G181>26,IF(H181="ano","E",IF(F181="Jeseník","F",""))))))) | J181: =IF(G181="","",IF(YEAR(TODAY())-G181<=7,1,IF(AND(YEAR(TODAY())-G181>=8,YEAR(TODAY())-G181<=10),2,IF(AND(YEAR(TODAY())-G181>=11,YEAR(TODAY())-G181<=15),3,IF(AND(YEAR(TODAY())-G181>=16,YEAR(TODAY())-G181<=20),4,IF(AND(YEAR(TODAY())-G181>=21,YEAR(TODAY())-G181<=26),5,IF(YEAR(TODAY())-G181>=27,6,"")))))))
B182: 162. | I182: =IF(G182="","",IF(YEAR(TODAY())-G182<5,"",IF(OR(YEAR(TODAY())-G182=5,YEAR(TODAY())-G182=6),IF(F182="Jeseník","B","A"),IF(AND(YEAR(TODAY())-G182>=7,YEAR(TODAY())-G182<=26),IF(F182="Jeseník",IF(H182="ano","D","B"),IF(H182="ano","C","A")),IF(YEAR(TODAY())-G182>26,IF(H182="ano","E",IF(F182="Jeseník","F",""))))))) | J182: =IF(G182="","",IF(YEAR(TODAY())-G182<=7,1,IF(AND(YEAR(TODAY())-G182>=8,YEAR(TODAY())-G182<=10),2,IF(AND(YEAR(TODAY())-G182>=11,YEAR(TODAY())-G182<=15),3,IF(AND(YEAR(TODAY())-G182>=16,YEAR(TODAY())-G182<=20),4,IF(AND(YEAR(TODAY())-G182>=21,YEAR(TODAY())-G182<=26),5,IF(YEAR(TODAY())-G182>=27,6,"")))))))
B183: 163. | I183: =IF(G183="","",IF(YEAR(TODAY())-G183<5,"",IF(OR(YEAR(TODAY())-G183=5,YEAR(TODAY())-G183=6),IF(F183="Jeseník","B","A"),IF(AND(YEAR(TODAY())-G183>=7,YEAR(TODAY())-G183<=26),IF(F183="Jeseník",IF(H183="ano","D","B"),IF(H183="ano","C","A")),IF(YEAR(TODAY())-G183>26,IF(H183="ano","E",IF(F183="Jeseník","F",""))))))) | J183: =IF(G183="","",IF(YEAR(TODAY())-G183<=7,1,IF(AND(YEAR(TODAY())-G183>=8,YEAR(TODAY())-G183<=10),2,IF(AND(YEAR(TODAY())-G183>=11,YEAR(TODAY())-G183<=15),3,IF(AND(YEAR(TODAY())-G183>=16,YEAR(TODAY())-G183<=20),4,IF(AND(YEAR(TODAY())-G183>=21,YEAR(TODAY())-G183<=26),5,IF(YEAR(TODAY())-G183>=27,6,"")))))))
B184: 164. | I184: =IF(G184="","",IF(YEAR(TODAY())-G184<5,"",IF(OR(YEAR(TODAY())-G184=5,YEAR(TODAY())-G184=6),IF(F184="Jeseník","B","A"),IF(AND(YEAR(TODAY())-G184>=7,YEAR(TODAY())-G184<=26),IF(F184="Jeseník",IF(H184="ano","D","B"),IF(H184="ano","C","A")),IF(YEAR(TODAY())-G184>26,IF(H184="ano","E",IF(F184="Jeseník","F",""))))))) | J184: =IF(G184="","",IF(YEAR(TODAY())-G184<=7,1,IF(AND(YEAR(TODAY())-G184>=8,YEAR(TODAY())-G184<=10),2,IF(AND(YEAR(TODAY())-G184>=11,YEAR(TODAY())-G184<=15),3,IF(AND(YEAR(TODAY())-G184>=16,YEAR(TODAY())-G184<=20),4,IF(AND(YEAR(TODAY())-G184>=21,YEAR(TODAY())-G184<=26),5,IF(YEAR(TODAY())-G184>=27,6,"")))))))
B185: 165. | I185: =IF(G185="","",IF(YEAR(TODAY())-G185<5,"",IF(OR(YEAR(TODAY())-G185=5,YEAR(TODAY())-G185=6),IF(F185="Jeseník","B","A"),IF(AND(YEAR(TODAY())-G185>=7,YEAR(TODAY())-G185<=26),IF(F185="Jeseník",IF(H185="ano","D","B"),IF(H185="ano","C","A")),IF(YEAR(TODAY())-G185>26,IF(H185="ano","E",IF(F185="Jeseník","F",""))))))) | J185: =IF(G185="","",IF(YEAR(TODAY())-G185<=7,1,IF(AND(YEAR(TODAY())-G185>=8,YEAR(TODAY())-G185<=10),2,IF(AND(YEAR(TODAY())-G185>=11,YEAR(TODAY())-G185<=15),3,IF(AND(YEAR(TODAY())-G185>=16,YEAR(TODAY())-G185<=20),4,IF(AND(YEAR(TODAY())-G185>=21,YEAR(TODAY())-G185<=26),5,IF(YEAR(TODAY())-G185>=27,6,"")))))))
... B215: 195. | I215: =IF(G215="","",IF(YEAR(TODAY())-G215<5,"",IF(OR(YEAR(TODAY())-G215=5,YEAR(TODAY())-G215=6),IF(F215="Jeseník","B","A"),IF(AND(YEAR(TODAY())-G215>=7,YEAR(TODAY())-G215<=26),IF(F215="Jeseník",IF(H215="ano","D","B"),IF(H215="ano","C","A")),IF(YEAR(TODAY())-G215>26,IF(H215="ano","E",IF(F215="Jeseník","F",""))))))) | J215: =IF(G215="","",IF(YEAR(TODAY())-G215<=7,1,IF(AND(YEAR(TODAY())-G215>=8,YEAR(TODAY())-G215<=10),2,IF(AND(YEAR(TODAY())-G215>=11,YEAR(TODAY())-G215<=15),3,IF(AND(YEAR(TODAY())-G215>=16,YEAR(TODAY())-G215<=20),4,IF(AND(YEAR(TODAY())-G215>=21,YEAR(TODAY())-G215<=26),5,IF(YEAR(TODAY())-G215>=27,6,"")))))))
A217: --------------------------------------------------------------------------------------------------------------------------------------------
B219: Město Jeseník, Masarykovo nám. 167/1, 790 01 Jeseník, IČ: 00302724, tel.: 584498407, e-mail:david.koukal@jesenik.cz

Sheet data
A1: Obce
A2: Bělá p. Pr.
A3: Bernartice
A4: Bílá Voda
A5: Čer. Voda
A6: Česká Ves
A7: Hradec-NV
A8: Javorník
A9: Jeseník
A10: Kobylá
A11: Lipová-l.
A12: Mikulovice
... A26: Jiné
