Workbook

Sheet ŽÁDOST 1B
A5: DOTACE z rozpočtu města Jeseník
B8: Ž Á D O S T 1B
B9: o poskytnutí finanční dotace na činnost
B10: Dotační program SPORT 2027 - Celoroční činnost sportovnních organizací
A12: --------------------------------------------------------------------------------------------------------------------------------------------
B14: Žadatel:
B15: (název právnické osoby dle registrační listiny)
B16: Adresa sídla:
B17: Statutární zástupce:
B18: (dle společenské smlouvy, stanov apod.)
B19: Právní forma žadatele:
B20: (občanské sdružení, nadace, o.p.s., sportovní klub apod.)
B21: IČO žadatele:
B22: DIČ žadatele:
B23: Bankovní spojení:
B24: Telefon:
B25: Emailová adresa:
A27: --------------------------------------------------------------------------------------------------------------------------------------------
B29: TÍMTO ŽÁDÁME O POSKYTNUTÍ DOTACE VE VÝŠI
B31: předpokládané náklady 2027
B33: % výše dotace | D33: =H29/E31 -> #DIV/0!
A35: --------------------------------------------------------------------------------------------------------------------------------------------
B37: K1) Náklady (výdaje) organizace:
B39: získané dotace na činnost na rok 2026
B40: Poskytovatel | D40: program | G40: získaná dotace v Kč
B46: Výše dotace města Jeseník na rok 2026 v Kč
B49: Skutečný rozpočet organizace v roce 2025 (bez mezd)
A51: --------------------------------------------------------------------------------------------------------------------------------------------
B52: Hlavní činnost organizace:
B53: (stručně popiště hlavní činnost)
B64: Plán činnosti a organizace na rok 2027
B65: (stručně popiště plán činnosti)
A75: --------------------------------------------------------------------------------------------------------------------------------------------
B77: Účel použití příspěvku města:
B78: (stručně popiště a podrobně uveďte v návrhu rozpočtu)
A88: --------------------------------------------------------------------------------------------------------------------------------------------
B90: K2/3) Druh sportu:
B91: (jmenujte hlavní sport, ve kterém se organizace účastní soutěží a vyberte upřesnění druhu sportu)
G93: Vyber...
F94: Upřesni
G95: Vyber…
A96: --------------------------------------------------------------------------------------------------------------------------------------------
B98: K4) Nejvyšší absolvované soutěže za posledních 12 měsíců:
B99: (k dané úrovni napište 3 názvy soutěží, kterých se účastnila organizace v posledních 12 měsících, vypište jen nejvyšší dosaženou úroveň, např. pokud se členové organizace účastnili alespoň 3 mezinárodních soutěží, už nemusíte vypisovat republikové, krajské a okresní)
B101: Okresní | D101: 1.
D102: 2.
D103: 3.
B105: Krajské | D105: 1.
D106: 2.
D107: 3.
B109: Republikové | D109: 1.
D110: 2.
D111: 3.
B113: Mezinárodní | D113: 1.
D114: 2.
D115: 3.
B117: Reprezentace ČR | D117: 1.
D118: 2.
D119: 3.
B121: * Nutno doložit výsledkové listiny k vyjmenováným soutěžím (závodům).
A123: --------------------------------------------------------------------------------------------------------------------------------------------
B124: K6) Aktivní trenéři s trenérskou licencí
B126: Pořadí | C126: Jméno | D126: Přijmení | F126: Licence*
B127: 1.
B128: 2.
B129: 3.
B130: 4.
B131: 5.
B132: 6.
B133: 7. | G133: * | H133: Licence A …… 2 roky studia
B134: 8. | H134: Licence B …… 2-3 týdenní kurz
B135: 9. | H135: Licence C …… 2-3 víkendový kurz
B136: 10.
B147: PROHLÁŠENÍ ŽADATELE
B148: Žadatel prohlašuje, že uvedené údaje vč. údajů v přílohách jsou úplné a pravdivé a že nezatajuje žádné okolnosti důležité pro posouzení žádosti.
B149: Žadatel prohlašuje, že nemá neuhrazené splatné závazky vůči městu Jeseník a jím zřízených a zakládaných organizací. Dále prohlašuje, že nemá žádné závazky po lhůtě splatnosti vůči státním fondům, zdravotním pojišťovnám a státnímu rozpočtu, zejména finančnímu úřadu, okresní správě sociálního zabezpečení a Celní správě České republiky (rozhodnutí o povolení posečkání s úhradou nedoplatků nebo rozhodnutí o povolení splátkování se považují za vypořádané nedoplatky).
B150: V případě neúplných či nepravdivých informací žadatel bere na vědomí, že je povinen ihned (po prokázání neúplnosti či nepravdivosti údajů) vrátit požadovanou částku na účet města Jeseník.
B152: INFORMACE O ZPRACOVÁNÍ OSOBNÍCH ÚDAJŮ
B153: Vámi poskytnuté osobní údaje budou zpracovány na základě čl. 6 odst. 1 písm. b) obecného nařízení EU (GDPR) z důvodu jejich nezbytnosti pro posouzení žádosti o poskytnutí dotace.
B159: Datum:
B161: Zpracoval:
G162: Podpis, příp. razítko
B172: UPOZORNĚNÍ
B174: K této žádosti je třeba doložit:
A175: 1. | B175: Doklad o právní subjektivitě žadatele, kopie stanov nebo statutu žadatele (pouze elektronicky).
A176: 2. | B176: Doklad o volbě či jmenování statutárního orgánu, zástupce (pouze elektronicky).
A177: 3. | B177: Doklad o přidělení IČ popřípadě DIČ je-li žadateli přiděleno (pouze elektronicky).
A178: 4. | B178: Doklad s číslem peněžního účtu u peněžního ústavu (v elektronické i v tištěné podobě).
A179: 5. | B179: Zpráva organizace – poslední zpracovaná (např. výroční zpráva, zpráva o hospodaření, zpráva o činnosti – pouze elektronicky).
A180: 6. | B180: Soupis výnosů a nákladů k 31.12.2024 za celý rok 2024 v obdobném členění jako návrh rozpočtu.
A181: 7. | B181: Podrobný návrh rozpočtu organizace na rok 2026 (vyrovnaný rozpočet) s označením nákladů, které v případě schválení budou hrazeny z dotace města Jeseník.
A182: 8. | B182: Při čerpání dotace na trenérskou činnost je žadatel povinnen doložit kopii smlouvy trenéra a jeho licenci.
B184: Dokumenty dle bodu 1-3 žádosti žadatel nepředkládá v případě, že v předchozích dokumentech, které předložil, nedošlo ke změnám, zašle jen Čestné prohlášení dle vzoru.
A185: ________________________________________________________________________________________
B186: Pozn. V případě nedostatku místa uveďte všechny požadované údaje na zvláštních přílohách.
A188: Tato žádost včetně příloh musí být doručena v daném termínu od 15.12.2025 do 09.01.2026 do 12 hodin v písemné podobě na podatelnu: MěÚ Jeseník, Masarykovo nám. 167/1, 790 01 Jeseník a v elektronické podobě na: david.koukal@jesenik.cz

Sheet NSA - členská základna
B1: Pořadí | C1: Jméno | D1: Příjmení | E1: Rok nar. | F1: Město | G1: Soutěžící* | H1: KAT | I1: název tréninkové skupiny | K1: Koef. - Rozsah členské základny
B2: =IF(D2="", "", SUBTOTAL(3, $D$2:D2)) | H2: =IF(E2="","",IF(YEAR(TODAY())-E2<='Nastavení - Vyhodnocení'!A19,"",IF(YEAR(TODAY())-E2<='Nastavení - Vyhodnocení'!A32,IF(F2="Jeseník","B","A"),IF(YEAR(TODAY())-E2<='Nastavení - Vyhodnocení'!A34,IF(G2="ano",IF(F2="Jeseník","D","C"),IF(F2="Jeseník","B","A")),IF(G2="ano","E",IF(F2="Jeseník","F","")))))) | K2: =IF(E2="","",LOOKUP(YEAR(TODAY())-E2, {0;8;11;16;21;27}, {1;2;3;4;5;6}))
B3: =IF(D3="", "", SUBTOTAL(3, $D$2:D3)) | H3: =IF(E3="","",IF(YEAR(TODAY())-E3<5,"",IF(YEAR(TODAY())-E3<=6,IF(F3="Jeseník","B","A"),IF(YEAR(TODAY())-E3<=19,IF(G3="ano",IF(F3="Jeseník","D","C"),IF(F3="Jeseník","B","A")),IF(G3="ano","E",IF(F3="Jeseník","F","")))))) | K3: =IF(E3="","",LOOKUP(YEAR(TODAY())-E3, {0;8;11;16;21;27}, {1;2;3;4;5;6}))
B4: =IF(D4="", "", SUBTOTAL(3, $D$2:D4)) | H4: =IF(E4="","",IF(YEAR(TODAY())-E4<5,"",IF(YEAR(TODAY())-E4<=6,IF(F4="Jeseník","B","A"),IF(YEAR(TODAY())-E4<=19,IF(G4="ano",IF(F4="Jeseník","D","C"),IF(F4="Jeseník","B","A")),IF(G4="ano","E",IF(F4="Jeseník","F","")))))) | K4: =IF(E4="","",LOOKUP(YEAR(TODAY())-E4, {0;8;11;16;21;27}, {1;2;3;4;5;6}))
B5: =IF(D5="", "", SUBTOTAL(3, $D$2:D5)) | H5: =IF(E5="","",IF(YEAR(TODAY())-E5<5,"",IF(YEAR(TODAY())-E5<=6,IF(F5="Jeseník","B","A"),IF(YEAR(TODAY())-E5<=19,IF(G5="ano",IF(F5="Jeseník","D","C"),IF(F5="Jeseník","B","A")),IF(G5="ano","E",IF(F5="Jeseník","F","")))))) | K5: =IF(E5="","",LOOKUP(YEAR(TODAY())-E5, {0;8;11;16;21;27}, {1;2;3;4;5;6}))
B6: =IF(D6="", "", SUBTOTAL(3, $D$2:D6)) | H6: =IF(E6="","",IF(YEAR(TODAY())-E6<5,"",IF(YEAR(TODAY())-E6<=6,IF(F6="Jeseník","B","A"),IF(YEAR(TODAY())-E6<=19,IF(G6="ano",IF(F6="Jeseník","D","C"),IF(F6="Jeseník","B","A")),IF(G6="ano","E",IF(F6="Jeseník","F","")))))) | K6: =IF(E6="","",LOOKUP(YEAR(TODAY())-E6, {0;8;11;16;21;27}, {1;2;3;4;5;6}))
B7: =IF(D7="", "", SUBTOTAL(3, $D$2:D7)) | H7: =IF(E7="","",IF(YEAR(TODAY())-E7<5,"",IF(YEAR(TODAY())-E7<=6,IF(F7="Jeseník","B","A"),IF(YEAR(TODAY())-E7<=19,IF(G7="ano",IF(F7="Jeseník","D","C"),IF(F7="Jeseník","B","A")),IF(G7="ano","E",IF(F7="Jeseník","F","")))))) | K7: =IF(E7="","",LOOKUP(YEAR(TODAY())-E7, {0;8;11;16;21;27}, {1;2;3;4;5;6}))
B8: =IF(D8="", "", SUBTOTAL(3, $D$2:D8)) | H8: =IF(E8="","",IF(YEAR(TODAY())-E8<5,"",IF(YEAR(TODAY())-E8<=6,IF(F8="Jeseník","B","A"),IF(YEAR(TODAY())-E8<=19,IF(G8="ano",IF(F8="Jeseník","D","C"),IF(F8="Jeseník","B","A")),IF(G8="ano","E",IF(F8="Jeseník","F","")))))) | K8: =IF(E8="","",LOOKUP(YEAR(TODAY())-E8, {0;8;11;16;21;27}, {1;2;3;4;5;6}))
B9: =IF(D9="", "", SUBTOTAL(3, $D$2:D9)) | H9: =IF(E9="","",IF(YEAR(TODAY())-E9<5,"",IF(YEAR(TODAY())-E9<=6,IF(F9="Jeseník","B","A"),IF(YEAR(TODAY())-E9<=19,IF(G9="ano",IF(F9="Jeseník","D","C"),IF(F9="Jeseník","B","A")),IF(G9="ano","E",IF(F9="Jeseník","F","")))))) | K9: =IF(E9="","",LOOKUP(YEAR(TODAY())-E9, {0;8;11;16;21;27}, {1;2;3;4;5;6}))
B10: =IF(D10="", "", SUBTOTAL(3, $D$2:D10)) | H10: =IF(E10="","",IF(YEAR(TODAY())-E10<5,"",IF(YEAR(TODAY())-E10<=6,IF(F10="Jeseník","B","A"),IF(YEAR(TODAY())-E10<=19,IF(G10="ano",IF(F10="Jeseník","D","C"),IF(F10="Jeseník","B","A")),IF(G10="ano","E",IF(F10="Jeseník","F","")))))) | K10: =IF(E10="","",LOOKUP(YEAR(TODAY())-E10, {0;8;11;16;21;27}, {1;2;3;4;5;6}))
B11: =IF(D11="", "", SUBTOTAL(3, $D$2:D11)) | H11: =IF(E11="","",IF(YEAR(TODAY())-E11<5,"",IF(YEAR(TODAY())-E11<=6,IF(F11="Jeseník","B","A"),IF(YEAR(TODAY())-E11<=19,IF(G11="ano",IF(F11="Jeseník","D","C"),IF(F11="Jeseník","B","A")),IF(G11="ano","E",IF(F11="Jeseník","F","")))))) | K11: =IF(E11="","",LOOKUP(YEAR(TODAY())-E11, {0;8;11;16;21;27}, {1;2;3;4;5;6}))
B12: =IF(D12="", "", SUBTOTAL(3, $D$2:D12)) | H12: =IF(E12="","",IF(YEAR(TODAY())-E12<5,"",IF(YEAR(TODAY())-E12<=6,IF(F12="Jeseník","B","A"),IF(YEAR(TODAY())-E12<=19,IF(G12="ano",IF(F12="Jeseník","D","C"),IF(F12="Jeseník","B","A")),IF(G12="ano","E",IF(F12="Jeseník","F","")))))) | K12: =IF(E12="","",LOOKUP(YEAR(TODAY())-E12, {0;8;11;16;21;27}, {1;2;3;4;5;6}))
B13: =IF(D13="", "", SUBTOTAL(3, $D$2:D13)) | H13: =IF(E13="","",IF(YEAR(TODAY())-E13<5,"",IF(YEAR(TODAY())-E13<=6,IF(F13="Jeseník","B","A"),IF(YEAR(TODAY())-E13<=19,IF(G13="ano",IF(F13="Jeseník","D","C"),IF(F13="Jeseník","B","A")),IF(G13="ano","E",IF(F13="Jeseník","F","")))))) | K13: =IF(E13="","",LOOKUP(YEAR(TODAY())-E13, {0;8;11;16;21;27}, {1;2;3;4;5;6}))
B14: =IF(D14="", "", SUBTOTAL(3, $D$2:D14)) | H14: =IF(E14="","",IF(YEAR(TODAY())-E14<5,"",IF(YEAR(TODAY())-E14<=6,IF(F14="Jeseník","B","A"),IF(YEAR(TODAY())-E14<=19,IF(G14="ano",IF(F14="Jeseník","D","C"),IF(F14="Jeseník","B","A")),IF(G14="ano","E",IF(F14="Jeseník","F","")))))) | K14: =IF(E14="","",LOOKUP(YEAR(TODAY())-E14, {0;8;11;16;21;27}, {1;2;3;4;5;6}))
... B331: =IF(D331="", "", SUBTOTAL(3, $D$2:D331)) | H331: =IF(E331="","",IF(YEAR(TODAY())-E331<5,"",IF(YEAR(TODAY())-E331<=6,IF(F331="Jeseník","B","A"),IF(YEAR(TODAY())-E331<=19,IF(G331="ano",IF(F331="Jeseník","D","C"),IF(F331="Jeseník","B","A")),IF(G331="ano","E",IF(F331="Jeseník","F","")))))) | K331: =IF(E331="","",LOOKUP(YEAR(TODAY())-E331, {0;8;11;16;21;27}, {1;2;3;4;5;6}))

Sheet Nastavení - Vyhodnocení
B2: Koeficient | E2: Bodování - kategorie | F2: Počty v kategorii | I2: Mezivýpočet K1
B3: K1 | C3: =J4/(I4*100)+1 -> #DIV/0! | D3: nákladovost | E3: A | F3: =COUNTIF('NSA - členská základna'!H$2:H$331,"A") -> 0 | I3: % | J3: počet dotací
B4: K2 | C4: =IF('ŽÁDOST 1B'!G93="Olympijský",1.5,IF('ŽÁDOST 1B'!G93="Neolympijský",1.2,IF('ŽÁDOST 1B'!G93="Rekreační",1.1,0))) -> 0 | D4: olymp/neolymp | E4: B | F4: =COUNTIF('NSA - členská základna'!H$2:H$331,"B") -> 0 | I4: ='ŽÁDOST 1B'!B47/'ŽÁDOST 1B'!B50 -> #DIV/0! | J4: =COUNTA('ŽÁDOST 1B'!B41:C43) -> 0
B5: K3 | C5: =IF('ŽÁDOST 1B'!G95="Kolektivní",1.1,IF('ŽÁDOST 1B'!G95="Individuální",1.3,0)) -> 0 | D5: kolekt/ind. | E5: C | F5: =COUNTIF('NSA - členská základna'!H$2:H$331,"C") -> 0
B6: K4 | C6: =IF(COUNTIF('ŽÁDOST 1B'!E101:E103,"<>")=3,1.1)+IF(COUNTIF('ŽÁDOST 1B'!E105:E107,"<>")=3,1.2)+IF(COUNTIF('ŽÁDOST 1B'!E109:E111,"<>")=3,IF('ŽÁDOST 1B'!G93="olympijský",1.3,IF('ŽÁDOST 1B'!G93="neolympijský",1.2,0)),0)+IF(COUNTIF('ŽÁDOST 1B'!E113:E115,"<>")=3,IF('ŽÁDOST 1B'!G93="olympijský",1.4,IF('ŽÁDOST 1B'!G93="neolympijský",1.3,0)))+IF(COUNTIF('ŽÁDOST 1B'!E117:I119,"<>")=3,IF('ŽÁDOST 1B'!G93="olympijský",1.5,IF('ŽÁDOST 1B'!G93="neolympijský",1.4,0))) -> 0 | D6: soutěže | E6: D | F6: =COUNTIF('NSA - členská základna'!H$2:H$331,"D") -> 0
C7: =1+COUNTIF('ŽÁDOST 1B'!#REF!,"X")*0.03+COUNTIF('ŽÁDOST 1B'!#REF!,"X")*0.03+COUNTIF('ŽÁDOST 1B'!#REF!,"X")*0.09 -> #REF! | D7: propagace | E7: E | F7: =COUNTIF('NSA - členská základna'!H$2:H$331,"E") -> 0
C8: =COUNTIF('ŽÁDOST 1B'!#REF!,">=100")*0.2+COUNTIFS('ŽÁDOST 1B'!#REF!,">=30",'ŽÁDOST 1B'!#REF!,"<100")*0.07 -> #REF! | D8: soutěže (nad 30) | E8: F | F8: =COUNTIF('NSA - členská základna'!H$2:H$331,"F") -> 0
B9: K5 | C9: =(IF(COUNTIF('NSA - členská základna'!K2:K331,1)>=5,1,0)+IF(COUNTIF('NSA - členská základna'!K2:K331,2)>=5,1,0)+IF(COUNTIF('NSA - členská základna'!K2:K331,3)>=5,1,0)+IF(COUNTIF('NSA - členská základna'!K2:K331,4)>=5,1,0)+IF(COUNTIF('NSA - členská základna'!K2:K331,5)>=5,1,0)+IF(COUNTIF('NSA - členská základna'!K2:K331,6)>=5,1,0)-1)/10+1 -> 0.9 | D9: rozsah člen. Základny | E9: BC | F9: =SUM(F3:F8) -> 0
B10: K6 | C10: =COUNTIF('ŽÁDOST 1B'!F127:F136,"A")*0.2+COUNTIF('ŽÁDOST 1B'!F127:F136,"B")*0.08+COUNTIF('ŽÁDOST 1B'!F127:F136,"C")*0.03 -> 0 | D10: trenéři (A=;B=;C=)
B11: KC | C11: =ROUND((C4*C5*C6*C7*C8*C10)+C9,3) -> #REF! | D11: SOUČET
B16: Vzorec v příloze č.1: | D16: =IF(#REF!="","",IF(YEAR(TODAY())-#REF!<5,"",IF(YEAR(TODAY())-#REF!<=6,IF(#REF!="Jeseník","B","A"),IF(YEAR(TODAY())-#REF!<=19,IF(#REF!="ano",IF(#REF!="Jeseník","D","C"),IF(#REF!="Jeseník","B","A")),IF(#REF!="ano","E",IF(#REF!="Jeseník","F","")))))) -> #REF! | H16: Vzorec v příloze č.1: | I16: =IF(#REF!="","",LOOKUP(YEAR(TODAY())-#REF!, {0;8;11;16;21;27}, {1;2;3;4;5;6})) -> #REF!
B17: 1. TABULKA: s podmínkami (KAT) - (Věk, Město, Souhlas) | H17: 2. TABULKA: s podmínkou (VĚK)
B18: Hranice věku pro výpočet | C18: Věk (v letech) | D18: Podmínka (Město A Soutěž) | E18: Výsledná hodnota (KAT) | F18: Poznámka / Význam | H18: Parametr (Věk) | I18: Výsledná známka / skupina | J18: Věk (rozsah od-do)
B19: 4 | C19: 0 až 4 | D19: Jakékoliv | E19: "" (prázdno) | F19: Příliš nízký věk | H19: 0 | I19: 1 | J19: 0 až 7
B20: 19 | C20: 5 až 19 | D20: Město = Jiné A Soutěž = ne/jiné | E20: A | F20: 1B | H20: 8 | I20: 2 | J20: 8 až 10
C21: 5 až 19 | D21: Město = Jeseník A Soutěž = ne/jiné | E21: B | F21: 3B | H21: 11 | I21: 3 | J21: 11 až 15
C22: 5 až 19 | D22: Město = Jiné A Soutěž = ano | E22: C | F22: 2B | H22: 16 | I22: 4 | J22: 16 až 20
C23: 5 až 19 | D23: Město = Jeseník A Soutěž = ano | E23: D | F23: 6B | H23: 21 | I23: 5 | J23: 21 až 26
B24: 20 | C24: 20 a více | E24: F | F24: Starší | H24: 27 | I24: 6 | J24: 27 a více
B30: Původní hodnoty
B32: 6 | C32: 5 až 6 | D32: Město = Jeseník | E32: B | F32: Předškolní věk (místní)
C33: 5 až 6 | D33: Město = Jiné | E33: A | F33: Předškolní věk (přespolní)
B34: 19 | C34: 7 až 26 | D34: Souhlas = ano A Město = Jeseník | E34: D | F34: Školní věk / Student se souhlasem (místní)
C35: 7 až 26 | D35: Souhlas = ano A Město = Jiné | E35: C | F35: Školní věk / Student se souhlasem (přespolní)
C36: 7 až 26 | D36: Souhlas = ne/jiné A Město = Jeseník | E36: B | F36: Školní věk / Student bez souhlasu (místní)
C37: 7 až 26 | D37: Souhlas = ne/jiné A Město = Jiné | E37: A | F37: Školní věk / Student bez souhlasu (přespolní)
B38: 26 | C38: 27 a více | D38: Souhlas = ano (jakékoliv město) | E38: E | F38: Dospělí se souhlasem
C39: 27 a více | D39: Souhlas = ne/jiné A Město = Jeseník | E39: F | F39: Dospělí bez souhlasu (místní)
C40: 27 a více | D40: Souhlas = ne/jiné A Město = Jiné | E40: "" (prázdno) | F40: Dospělí bez souhlasu (přespolní)

Sheet data
A1: Obce
A2: Bělá p. Pr.
A3: Bernartice
A4: Bílá Voda
A5: Čer. Voda
A6: Česká Ves
A7: Hradec-NV
A8: Javorník
A9: Jeseník
A10: Kobylá
A11: Lipová-l.
A12: Mikulovice
... A26: Jiné
